BEGIN:VCALENDAR
PRODID:-//hacksw/handcal//NONSGML v1.0//EN
VERSION:2.0
METHOD:PUBLISH
BEGIN:VEVENT
DTSTART:20261101T140000Z
DTEND:20261102T020000Z
LOCATION:
UID:2616020261101T140000ZMembership Application Form Fee
DTSTAMP:20260420T045223Z
DESCRIPTION:\nMembership Application Fee for Prospective Members\n
SUMMARY:Membership Application Form Fee - Estate Planning Council of Naples, Inc. 
PRIORITY:3
BEGIN:VALARM
TRIGGER:PT18H
ACTION:DISPLAY
DESCRIPTION:Reminder
END:VALARM
END:VEVENT
END:VCALENDAR