BEGIN:VCALENDAR
PRODID:-//hacksw/handcal//NONSGML v1.0//EN
VERSION:2.0
METHOD:PUBLISH
BEGIN:VEVENT
DTSTART:20260902T153000Z
DTEND:20260902T173000Z
LOCATION:Imperial Golf Club
UID:2947320260902T153000ZSeptember Joint Speaker Meeting with Collier Community Foundation
DTSTAMP:20260423T135833Z
DESCRIPTION:
SUMMARY:September Joint Speaker Meeting with Collier Community Foundation - Estate Planning Council of Naples, Inc. 
PRIORITY:3
BEGIN:VALARM
TRIGGER:PT18H
ACTION:DISPLAY
DESCRIPTION:Reminder
END:VALARM
END:VEVENT
END:VCALENDAR