BEGIN:VCALENDAR
PRODID:-//hacksw/handcal//NONSGML v1.0//EN
VERSION:2.0
METHOD:PUBLISH
BEGIN:VEVENT
DTSTART:20261002T113000Z
DTEND:20261002T210000Z
LOCATION:Imperial Golf Club
UID:2947420261002T113000Z35th Annual Success Event of the EPC of Naples
DTSTAMP:20260423T140243Z
DESCRIPTION:\nRegistration is open. Check out the sponsorship opportunites as well as the Options for attendance. You won't want to miss this! Register early, we have a limitation on attendees.\n \nSpeaker Paul Lee is scheduled to bring information vital to the field of Estate Planning.\n \nSponsorship Opportunities are as follows:\n \nPar Sponsor:    $250 - Listing in the program and on the PowerPoint.\nBirdie Sponsor: $500 - Listing in the program, website acknowledgment, recognition on the PowerPoint,\n and one free Success Event meeting fee.\nEagle Sponsor: $1000 - Listing in the program website acknowledgment, PowerPoint recognition, and\n one free Success Event meeting fee and golf fee.\nPresenting Sponsor: $5,000 – Only one Presenting Sponsorship available per year. Top listing in the\n program with logo and website, recognition at the event, and on the PowerPoint as the Presenting Success Event Sponsor. Free Attendance and a foursome of golf.\n
SUMMARY:35th Annual Success Event of the EPC of Naples - Estate Planning Council of Naples, Inc. 
PRIORITY:3
BEGIN:VALARM
TRIGGER:PT18H
ACTION:DISPLAY
DESCRIPTION:Reminder
END:VALARM
END:VEVENT
END:VCALENDAR